BEGIN:VCALENDAR
VERSION:2.0
PRODID:-//Σχέδια Διαχείρισης ΛΑΠ - ECPv4.9.4//NONSGML v1.0//EN
CALSCALE:GREGORIAN
METHOD:PUBLISH
X-WR-CALNAME:Σχέδια Διαχείρισης ΛΑΠ
X-ORIGINAL-URL:https://wfdver.ypeka.gr
X-WR-CALDESC:Σχέδια Διαχείρισης ΛΑΠ - Εκδηλώσεις
BEGIN:VTIMEZONE
TZID:"Europe/Helsinki"
BEGIN:DAYLIGHT
TZOFFSETFROM:+0200
TZOFFSETTO:+0300
TZNAME:EEST
DTSTART:20170326T010000
END:DAYLIGHT
BEGIN:STANDARD
TZOFFSETFROM:+0300
TZOFFSETTO:+0200
TZNAME:EET
DTSTART:20171029T010000
END:STANDARD
END:VTIMEZONE
BEGIN:VEVENT
DTSTART;TZID="Europe/Helsinki":20170920T093000
DTEND;TZID="Europe/Helsinki":20170920T143000
DTSTAMP:20260424T004213
CREATED:20170914T065408Z
LAST-MODIFIED:20170918T091749Z
UID:5529-1505899800-1505917800@wfdver.ypeka.gr
SUMMARY:Ημερίδα για το Υδατικό Διαμέρισμα Δυτικής Μακεδονίας (EL09) - Κοζάνη\, 20 Σεπτεμβρίου 2017
DESCRIPTION:Ημερίδα με θέμα «1η Αναθεώρηση Σχεδίου Διαχείρισης Λεκανών Απορροής Ποταμών του Υδατικού Διαμερίσματος Δυτικής Μακεδονίας (EL09)» \nΔείτε εδώ την Πρόσκληση και εδώ το Πρόγραμμα. \n
URL:https://wfdver.ypeka.gr/el/event/conf-el09/
LOCATION:Αμφιθέατρο της Αποκεντρωμένης Διοίκησης Ηπείρου – Δυτικής Μακεδονίας (ΖΕΠ Κοζάνης)\, Αποκεντρωμένη Διοίκηση Ηπείρου Δυτικής Μακεδονίας/Διοικητήριο Περιφέρειας Δυτ. Μακεδονίας\, Κοζάνη\, Θεσσαλονίκη\, 50100\, Greece
CATEGORIES:Ημερίδες
ATTACH;FMTTYPE=image/jpeg:https://wfdver.ypeka.gr/wp-content/uploads/2017/04/Hand.jpg
END:VEVENT
END:VCALENDAR