BEGIN:VCALENDAR
VERSION:2.0
PRODID:-//Σχέδια Διαχείρισης ΛΑΠ - ECPv4.9.4//NONSGML v1.0//EN
CALSCALE:GREGORIAN
METHOD:PUBLISH
X-WR-CALNAME:Σχέδια Διαχείρισης ΛΑΠ
X-ORIGINAL-URL:https://wfdver.ypeka.gr
X-WR-CALDESC:Σχέδια Διαχείρισης ΛΑΠ - Εκδηλώσεις
BEGIN:VTIMEZONE
TZID:"Europe/Helsinki"
BEGIN:DAYLIGHT
TZOFFSETFROM:+0200
TZOFFSETTO:+0300
TZNAME:EEST
DTSTART:20170326T010000
END:DAYLIGHT
BEGIN:STANDARD
TZOFFSETFROM:+0300
TZOFFSETTO:+0200
TZNAME:EET
DTSTART:20171029T010000
END:STANDARD
END:VTIMEZONE
BEGIN:VEVENT
DTSTART;TZID="Europe/Helsinki":20171019T093000
DTEND;TZID="Europe/Helsinki":20171019T143000
DTSTAMP:20260424T030449
CREATED:20171006T150338Z
LAST-MODIFIED:20171012T135112Z
UID:5891-1508405400-1508423400@wfdver.ypeka.gr
SUMMARY:Ημερίδα για το Υδατικό Διαμέρισμα Ηπείρου (EL05) - Ιωάννινα\, 19 Οκτωβρίου 2017
DESCRIPTION:Ημερίδα με θέμα «Διαβούλευση 1ης Αναθεώρησης Σχεδίου Διαχείρισης Λεκανών Απορροής Ποταμών του Υδατικού Διαμερίσματος Ηπείρου(EL05)» \nΔείτε εδώ την Πρόσκληση και εδώ το Πρόγραμμα. \nΔηλώστε συμμετοχή εδώ \n
URL:https://wfdver.ypeka.gr/el/event/conf-el05/
LOCATION:ΤΕΕ Ηπείρου\, Αραβαντινού 6-8\, Ιωάννινα\, Ιωάννινα\, 45444\, Greece
CATEGORIES:Ημερίδες
ATTACH;FMTTYPE=image/jpeg:https://wfdver.ypeka.gr/wp-content/uploads/2017/04/Hand.jpg
END:VEVENT
END:VCALENDAR